BEGIN:VCALENDAR
VERSION:2.0
PRODID:-//Schlepperfreunde Schmiechen e.V. - ECPv6.15.20//NONSGML v1.0//EN
CALSCALE:GREGORIAN
METHOD:PUBLISH
X-WR-CALNAME:Schlepperfreunde Schmiechen e.V.
X-ORIGINAL-URL:https://www.schlepperfreunde-schmiechen.de
X-WR-CALDESC:Veranstaltungen für Schlepperfreunde Schmiechen e.V.
REFRESH-INTERVAL;VALUE=DURATION:PT1H
X-Robots-Tag:noindex
X-PUBLISHED-TTL:PT1H
BEGIN:VTIMEZONE
TZID:Europe/Berlin
BEGIN:DAYLIGHT
TZOFFSETFROM:+0100
TZOFFSETTO:+0200
TZNAME:CEST
DTSTART:20220327T010000
END:DAYLIGHT
BEGIN:STANDARD
TZOFFSETFROM:+0200
TZOFFSETTO:+0100
TZNAME:CET
DTSTART:20221030T010000
END:STANDARD
BEGIN:DAYLIGHT
TZOFFSETFROM:+0100
TZOFFSETTO:+0200
TZNAME:CEST
DTSTART:20230326T010000
END:DAYLIGHT
BEGIN:STANDARD
TZOFFSETFROM:+0200
TZOFFSETTO:+0100
TZNAME:CET
DTSTART:20231029T010000
END:STANDARD
BEGIN:DAYLIGHT
TZOFFSETFROM:+0100
TZOFFSETTO:+0200
TZNAME:CEST
DTSTART:20240331T010000
END:DAYLIGHT
BEGIN:STANDARD
TZOFFSETFROM:+0200
TZOFFSETTO:+0100
TZNAME:CET
DTSTART:20241027T010000
END:STANDARD
END:VTIMEZONE
BEGIN:VEVENT
DTSTART;VALUE=DATE:20230804
DTEND;VALUE=DATE:20230805
DTSTAMP:20260419T155436
CREATED:20230118T130728Z
LAST-MODIFIED:20230118T130728Z
UID:2041-1691107200-1691193599@www.schlepperfreunde-schmiechen.de
SUMMARY:Stammtisch entfällt
DESCRIPTION:
URL:https://www.schlepperfreunde-schmiechen.de/termin/stammtisch-entfaellt-2/
LOCATION:Bayern
END:VEVENT
BEGIN:VEVENT
DTSTART;TZID=Europe/Berlin:20230805T130000
DTEND;TZID=Europe/Berlin:20230805T140000
DTSTAMP:20260419T155436
CREATED:20230118T131338Z
LAST-MODIFIED:20230118T132736Z
UID:2045-1691240400-1691244000@www.schlepperfreunde-schmiechen.de
SUMMARY:TÜV an der Schlepperhalle
DESCRIPTION:Für Oldtimer-Schlepper und ungebremste Anhänger
URL:https://www.schlepperfreunde-schmiechen.de/termin/tuev-in-der-schlepperhalle-3/
LOCATION:Bayern
END:VEVENT
BEGIN:VEVENT
DTSTART;TZID=Europe/Berlin:20230806T090000
DTEND;TZID=Europe/Berlin:20230806T170000
DTSTAMP:20260419T155436
CREATED:20230118T131651Z
LAST-MODIFIED:20230721T083632Z
UID:2047-1691312400-1691341200@www.schlepperfreunde-schmiechen.de
SUMMARY:Schlepperfrühschoppen in Moorenweis
DESCRIPTION:Abfahrt Schlepperhalle:  10.00 Uhr
URL:https://www.schlepperfreunde-schmiechen.de/termin/schlepperfruehschoppen-in-moorenweis-2/
LOCATION:Bayern
END:VEVENT
BEGIN:VEVENT
DTSTART;VALUE=DATE:20230812
DTEND;VALUE=DATE:20230814
DTSTAMP:20260419T155436
CREATED:20230721T085959Z
LAST-MODIFIED:20230721T085959Z
UID:2097-1691798400-1691971199@www.schlepperfreunde-schmiechen.de
SUMMARY:6. Oldtimertreffen der Oldtimer-Freunde-Preith e.V.
DESCRIPTION:Oldtimer Bulldogtreffen mit Geräten der bäuerlichen Landwirtschaft in 85131 Preith – Steigweg \n  \nwww.oldtimer-freunde-preith.de
URL:https://www.schlepperfreunde-schmiechen.de/termin/6-oldtimertreffen-der-oldtimer-freunde-preith-e-v/
LOCATION:Bayern
END:VEVENT
BEGIN:VEVENT
DTSTART;VALUE=DATE:20230813
DTEND;VALUE=DATE:20230814
DTSTAMP:20260419T155436
CREATED:20230118T131033Z
LAST-MODIFIED:20230202T081531Z
UID:2043-1691884800-1691971199@www.schlepperfreunde-schmiechen.de
SUMMARY:Oldtimertreffen in Nesselwang
DESCRIPTION:www.oldiefreunde-nesselwang.de
URL:https://www.schlepperfreunde-schmiechen.de/termin/oldtimertreffen-in-nesselwang/
LOCATION:Bayern
END:VEVENT
BEGIN:VEVENT
DTSTART;VALUE=DATE:20230827
DTEND;VALUE=DATE:20230828
DTSTAMP:20260419T155436
CREATED:20230118T132053Z
LAST-MODIFIED:20230721T083805Z
UID:2053-1693094400-1693180799@www.schlepperfreunde-schmiechen.de
SUMMARY:Feldtage Dünzelbach
DESCRIPTION:Abfahrt Schlepperhalle: 10.00 Uhr
URL:https://www.schlepperfreunde-schmiechen.de/termin/feldtage-duenzelbach-2/
LOCATION:Bayern
END:VEVENT
END:VCALENDAR